BEGIN:VCALENDAR
VERSION:2.0
PRODID:-//Greater Mt. Airy Chamber of Commerce - ECPv6.15.20//NONSGML v1.0//EN
CALSCALE:GREGORIAN
METHOD:PUBLISH
X-ORIGINAL-URL:https://mtairychamber.com
X-WR-CALDESC:Events for Greater Mt. Airy Chamber of Commerce
REFRESH-INTERVAL;VALUE=DURATION:PT1H
X-Robots-Tag:noindex
X-PUBLISHED-TTL:PT1H
BEGIN:VTIMEZONE
TZID:America/New_York
BEGIN:DAYLIGHT
TZOFFSETFROM:-0500
TZOFFSETTO:-0400
TZNAME:EDT
DTSTART:20250309T070000
END:DAYLIGHT
BEGIN:STANDARD
TZOFFSETFROM:-0400
TZOFFSETTO:-0500
TZNAME:EST
DTSTART:20251102T060000
END:STANDARD
BEGIN:DAYLIGHT
TZOFFSETFROM:-0500
TZOFFSETTO:-0400
TZNAME:EDT
DTSTART:20260308T070000
END:DAYLIGHT
BEGIN:STANDARD
TZOFFSETFROM:-0400
TZOFFSETTO:-0500
TZNAME:EST
DTSTART:20261101T060000
END:STANDARD
BEGIN:DAYLIGHT
TZOFFSETFROM:-0500
TZOFFSETTO:-0400
TZNAME:EDT
DTSTART:20270314T070000
END:DAYLIGHT
BEGIN:STANDARD
TZOFFSETFROM:-0400
TZOFFSETTO:-0500
TZNAME:EST
DTSTART:20271107T060000
END:STANDARD
END:VTIMEZONE
BEGIN:VEVENT
DTSTART;TZID=America/New_York:20260313T083000
DTEND;TZID=America/New_York:20260313T100000
DTSTAMP:20260423T181956
CREATED:20251221T194600Z
LAST-MODIFIED:20251221T194600Z
UID:2068-1773390600-1773396000@mtairychamber.com
SUMMARY:Chamber Business and Membership Meeting
DESCRIPTION:Join us for our upcoming Chamber Business and Membership Meeting! This is a vital opportunity to connect\, and collaborate. \nYour voice matters—help shape the future of our Chamber! We look forward to seeing you there.
URL:https://mtairychamber.com/event/chamber-business-and-membership-meeting-3/
LOCATION:I-Hop\, 1001 Twin Arch Road\, Mount Airy\, MD\, 21771\, United States
CATEGORIES:Business Meeting
ATTACH;FMTTYPE=image/png:https://mtairychamber.com/wp-content/uploads/2025/12/Copilot_20251221_144117-e1766346257776.png
END:VEVENT
BEGIN:VEVENT
DTSTART;TZID=America/New_York:20260319T160000
DTEND;TZID=America/New_York:20260319T190000
DTSTAMP:20260423T181956
CREATED:20260212T173523Z
LAST-MODIFIED:20260212T173945Z
UID:2120-1773936000-1773946800@mtairychamber.com
SUMMARY:After Hours Business Card Exchange
DESCRIPTION:Come and meet your new neighbors in Woodbine – Learn more about us and our store! \nPeake 70 Rooted in Community Crafted with Care \n 
URL:https://mtairychamber.com/event/after-hours-business-card-exchange/
LOCATION:Tony Locos\, 710 Lisbon Center Drive\, Woodbine\, MD\, 21797\, United States
CATEGORIES:Business Card Exchange
ATTACH;FMTTYPE=image/png:https://mtairychamber.com/wp-content/uploads/2026/02/P70_GMACC_HappyHour_M-BD-E_Graphic_v2_2026-02-10.png
END:VEVENT
BEGIN:VEVENT
DTSTART;TZID=America/New_York:20260320T160000
DTEND;TZID=America/New_York:20260320T180000
DTSTAMP:20260423T181956
CREATED:20260310T163822Z
LAST-MODIFIED:20260310T164946Z
UID:2155-1774022400-1774029600@mtairychamber.com
SUMMARY:Bowling and Business
DESCRIPTION:Bowling and Business \nFamilies Welcome!! \nIntroducing a collaborative business group built for newer entrepreneurs who want to connect to\, exchange ideas\, learn from experienced peers\, and grow together. The goal is to create a supportive environment where business owners can build relationships\, gain knowledge\, and strengthen their business.
URL:https://mtairychamber.com/event/bowling-and-business/
LOCATION:Mt Airy Lanes\, 304 Center Street\, Mt Airy\, MD\, 21771\, United States
CATEGORIES:Business Card Exchange
ATTACH;FMTTYPE=image/jpeg:https://mtairychamber.com/wp-content/uploads/2026/03/gmacc.jpg
END:VEVENT
END:VCALENDAR