BEGIN:VCALENDAR
VERSION:2.0
PRODID:-//Greater Mt. Airy Chamber of Commerce - ECPv6.15.20//NONSGML v1.0//EN
CALSCALE:GREGORIAN
METHOD:PUBLISH
X-WR-CALNAME:Greater Mt. Airy Chamber of Commerce
X-ORIGINAL-URL:https://mtairychamber.com
X-WR-CALDESC:Events for Greater Mt. Airy Chamber of Commerce
REFRESH-INTERVAL;VALUE=DURATION:PT1H
X-Robots-Tag:noindex
X-PUBLISHED-TTL:PT1H
BEGIN:VTIMEZONE
TZID:America/New_York
BEGIN:DAYLIGHT
TZOFFSETFROM:-0500
TZOFFSETTO:-0400
TZNAME:EDT
DTSTART:20240310T070000
END:DAYLIGHT
BEGIN:STANDARD
TZOFFSETFROM:-0400
TZOFFSETTO:-0500
TZNAME:EST
DTSTART:20241103T060000
END:STANDARD
BEGIN:DAYLIGHT
TZOFFSETFROM:-0500
TZOFFSETTO:-0400
TZNAME:EDT
DTSTART:20250309T070000
END:DAYLIGHT
BEGIN:STANDARD
TZOFFSETFROM:-0400
TZOFFSETTO:-0500
TZNAME:EST
DTSTART:20251102T060000
END:STANDARD
BEGIN:DAYLIGHT
TZOFFSETFROM:-0500
TZOFFSETTO:-0400
TZNAME:EDT
DTSTART:20260308T070000
END:DAYLIGHT
BEGIN:STANDARD
TZOFFSETFROM:-0400
TZOFFSETTO:-0500
TZNAME:EST
DTSTART:20261101T060000
END:STANDARD
END:VTIMEZONE
BEGIN:VEVENT
DTSTART;TZID=America/New_York:20251211T170000
DTEND;TZID=America/New_York:20251211T190000
DTSTAMP:20260423T221928
CREATED:20251030T175809Z
LAST-MODIFIED:20251030T180338Z
UID:1985-1765472400-1765479600@mtairychamber.com
SUMMARY:Annual Holiday Business Card Exchange
DESCRIPTION:🎄 Annual Holiday Business Card Exchange Hosted by the Greater Mount Airy Chamber of Commerce 📍 Upstairs at Tony Pazzo Italian Ristorante 114 South Main Street\, Mount Airy\, MD 📅 Wednesday\, December 11th 🕔 5:00 PM – 7:00 PM \nJoin us for an evening of festive networking\, delicious bites\, and community spirit! Bring your business cards and holiday cheer—and please consider bringing a donation for Mt. Airy Net to support local families in need this season.
URL:https://mtairychamber.com/event/annual-holiday-business-card-exchange/
LOCATION:Tony Pazzo\, 114 South Main Street\, Mount Airy\, MD\, 21771\, United States
CATEGORIES:Business Card Exchange
ATTACH;FMTTYPE=image/png:https://mtairychamber.com/wp-content/uploads/2025/10/Copilot_20251030_135417-1.png
END:VEVENT
BEGIN:VEVENT
DTSTART;TZID=America/New_York:20251219T090000
DTEND;TZID=America/New_York:20251219T103000
DTSTAMP:20260423T221928
CREATED:20251120T202919Z
LAST-MODIFIED:20251121T184951Z
UID:2012-1766134800-1766140200@mtairychamber.com
SUMMARY:2026 Chamber Planning Meeting
DESCRIPTION:  \nAll Chamber members are encouraged to attend this important planning meeting as we prepare for an exciting 2026 year. We’ll be unveiling new events\, programs\, and opportunities designed to strengthen our community and support local businesses. \n✨ Your voice matters—help shape the year ahead!
URL:https://mtairychamber.com/event/2026-chamber-planning-meeting/
LOCATION:SK Printing\, 216 S Main Street\, Mount Airy\, MD\, 21771\, United States
CATEGORIES:Planning Meeting
ATTACH;FMTTYPE=image/png:https://mtairychamber.com/wp-content/uploads/2025/11/Copilot_20251120_152317.png
END:VEVENT
END:VCALENDAR