BEGIN:VCALENDAR
VERSION:2.0
PRODID:-//Greater Mt. Airy Chamber of Commerce - ECPv6.15.20//NONSGML v1.0//EN
CALSCALE:GREGORIAN
METHOD:PUBLISH
X-WR-CALNAME:Greater Mt. Airy Chamber of Commerce
X-ORIGINAL-URL:https://mtairychamber.com
X-WR-CALDESC:Events for Greater Mt. Airy Chamber of Commerce
REFRESH-INTERVAL;VALUE=DURATION:PT1H
X-Robots-Tag:noindex
X-PUBLISHED-TTL:PT1H
BEGIN:VTIMEZONE
TZID:America/New_York
BEGIN:DAYLIGHT
TZOFFSETFROM:-0500
TZOFFSETTO:-0400
TZNAME:EDT
DTSTART:20250309T070000
END:DAYLIGHT
BEGIN:STANDARD
TZOFFSETFROM:-0400
TZOFFSETTO:-0500
TZNAME:EST
DTSTART:20251102T060000
END:STANDARD
BEGIN:DAYLIGHT
TZOFFSETFROM:-0500
TZOFFSETTO:-0400
TZNAME:EDT
DTSTART:20260308T070000
END:DAYLIGHT
BEGIN:STANDARD
TZOFFSETFROM:-0400
TZOFFSETTO:-0500
TZNAME:EST
DTSTART:20261101T060000
END:STANDARD
BEGIN:DAYLIGHT
TZOFFSETFROM:-0500
TZOFFSETTO:-0400
TZNAME:EDT
DTSTART:20270314T070000
END:DAYLIGHT
BEGIN:STANDARD
TZOFFSETFROM:-0400
TZOFFSETTO:-0500
TZNAME:EST
DTSTART:20271107T060000
END:STANDARD
END:VTIMEZONE
BEGIN:VEVENT
DTSTART;TZID=America/New_York:20260507T163000
DTEND;TZID=America/New_York:20260507T183000
DTSTAMP:20260423T192528
CREATED:20260416T163323Z
LAST-MODIFIED:20260416T163323Z
UID:2203-1778171400-1778178600@mtairychamber.com
SUMMARY:Business Card Exchange
DESCRIPTION:Waverly Insurance Group is the host for this month’s Business Card Exchange at the Fingerboard Farm Inn Thursday May 7th from 4:30-6:30. We will have Mission BBQ cater it and we will also provide beer\, wine and drinks. \nWelcome to the Mt. Airy Chamber of Commerce! We are absolutely thrilled to host your upcoming event at the Fingerboard Country Inn. Nestled on 25 scenic acres\, our elegantly restored 1789 historic farmhouse provides a unique\, peaceful backdrop perfectly tailored for professional gatherings\, networking\, and retreats. Beyond the charming accommodations\, our property is a vibrant agritourism destination and wellness farm. We look forward to providing the Chamber with an inspiring\, welcoming environment\, and we invite you to explore more about our venue and our farm’s offerings at fingerboardfarm.market. \nAt Waverly Insurance Group\, we operate as a dedicated solutions-provider agency\, moving beyond simple transactions to deliver comprehensive protection tailored to every stage of your life. Our expertise spans a wide array of Property & Casualty (P&C) insurance\, from essential Commercial Lines and Bonds to specialized Life\, Long Term Care & Employee Benefit products and Tag & Title services. \nWe are a true one-stop shop for all your insurance needs\, protecting your everyday assets as well as your favorite “toys”—including yachts\, boats\, motorcycles\, RVs\, and ATVs. We also understand that life’s biggest milestones deserve specialized care\, offering coverage for major life events such as weddings and birthday parties. Whether you are securing your business\, your next weekend adventure\, or a lifelong memory\, we provide the strategic coverage and personalized service you need. \nLearn more about our solutions at www.waverlyinsurancegroup.com
URL:https://mtairychamber.com/event/business-card-exchange/
LOCATION:Fingerboard Country Inn\, 10240 Fingerboard Rd\, Ijamsville\, MD\, 21754\, United States
CATEGORIES:Business Card Exchange
ATTACH;FMTTYPE=image/png:https://mtairychamber.com/wp-content/uploads/2026/04/Copilot_20260416_123032.png
END:VEVENT
BEGIN:VEVENT
DTSTART;TZID=America/New_York:20260714T083000
DTEND;TZID=America/New_York:20260714T110000
DTSTAMP:20260423T192528
CREATED:20251221T193134Z
LAST-MODIFIED:20260302T212316Z
UID:2058-1784017800-1784026800@mtairychamber.com
SUMMARY:Professional Development Series
DESCRIPTION:Free to all members and $10 for non-members. Includes breakfast. RSVP to attend this event.
URL:https://mtairychamber.com/event/professional-development-series-3/
LOCATION:Mt Airy Health & Wellness Pavilion\, 504 East Ridgeville Blvd\, Mt Airy\, MD\, 21771\, United States
CATEGORIES:Business Card Exchange
ATTACH;FMTTYPE=image/png:https://mtairychamber.com/wp-content/uploads/2025/12/Copilot_20251221_142502-e1766345397122.png
END:VEVENT
BEGIN:VEVENT
DTSTART;TZID=America/New_York:20261013T083000
DTEND;TZID=America/New_York:20261013T100000
DTSTAMP:20260423T192528
CREATED:20251221T193234Z
LAST-MODIFIED:20251221T193234Z
UID:2060-1791880200-1791885600@mtairychamber.com
SUMMARY:Professional Development Series
DESCRIPTION:Free to all members and $10 for non-members. Includes breakfast.
URL:https://mtairychamber.com/event/professional-development-series-4/
LOCATION:Mt Airy Health & Wellness Pavilion\, 504 East Ridgeville Blvd\, Mt Airy\, MD\, 21771\, United States
CATEGORIES:Business Card Exchange
ATTACH;FMTTYPE=image/png:https://mtairychamber.com/wp-content/uploads/2025/12/Copilot_20251221_142502-e1766345397122.png
END:VEVENT
END:VCALENDAR