BEGIN:VCALENDAR
VERSION:2.0
PRODID:-//Greater Mt. Airy Chamber of Commerce - ECPv6.15.20//NONSGML v1.0//EN
CALSCALE:GREGORIAN
METHOD:PUBLISH
X-WR-CALNAME:Greater Mt. Airy Chamber of Commerce
X-ORIGINAL-URL:https://mtairychamber.com
X-WR-CALDESC:Events for Greater Mt. Airy Chamber of Commerce
REFRESH-INTERVAL;VALUE=DURATION:PT1H
X-Robots-Tag:noindex
X-PUBLISHED-TTL:PT1H
BEGIN:VTIMEZONE
TZID:America/New_York
BEGIN:DAYLIGHT
TZOFFSETFROM:-0500
TZOFFSETTO:-0400
TZNAME:EDT
DTSTART:20250309T070000
END:DAYLIGHT
BEGIN:STANDARD
TZOFFSETFROM:-0400
TZOFFSETTO:-0500
TZNAME:EST
DTSTART:20251102T060000
END:STANDARD
BEGIN:DAYLIGHT
TZOFFSETFROM:-0500
TZOFFSETTO:-0400
TZNAME:EDT
DTSTART:20260308T070000
END:DAYLIGHT
BEGIN:STANDARD
TZOFFSETFROM:-0400
TZOFFSETTO:-0500
TZNAME:EST
DTSTART:20261101T060000
END:STANDARD
BEGIN:DAYLIGHT
TZOFFSETFROM:-0500
TZOFFSETTO:-0400
TZNAME:EDT
DTSTART:20270314T070000
END:DAYLIGHT
BEGIN:STANDARD
TZOFFSETFROM:-0400
TZOFFSETTO:-0500
TZNAME:EST
DTSTART:20271107T060000
END:STANDARD
END:VTIMEZONE
BEGIN:VEVENT
DTSTART;TZID=America/New_York:20260414T083000
DTEND;TZID=America/New_York:20260414T100000
DTSTAMP:20260423T182531
CREATED:20251221T193016Z
LAST-MODIFIED:20260402T203108Z
UID:2056-1776155400-1776160800@mtairychamber.com
SUMMARY:Professional Development Series
DESCRIPTION:How Can You Leverage LinkedIn More for Business?\nPractical strategies for turning LinkedIn into a relationship-building and referral engine \nLinkedIn is no longer just an online résumé—it’s one of the most powerful (and underutilized) business development tools available to local professionals today. \nIn this session\, Mark Jenkins\, digital marketing strategist and owner of WSI Digital Marketing\, will break down how business owners\, professionals\, and sales leaders can use LinkedIn intentionally to build visibility\, credibility\, and real business relationships—without spending hours a day on social media. \nThis presentation is practical\, approachable\, and immediately actionable\, even if you’re not “good at social media.” \nYou’ll learn:\n\nWhy LinkedIn consistently outperforms other platforms for B2B visibility and referrals\nHow to optimize your profile so it clearly communicates what you do and who you help\nHow to find and connect with the right people—without Sales Navigator\nSimple daily engagement habits that dramatically increase reach and visibility\nHow LinkedIn’s Social Selling Index (SSI) works—and why it matters more than follower count\nHow small\, consistent actions on LinkedIn lead to warmer conversations\, referrals\, and opportunities\n\nWhether you’re a business owner\, consultant\, salesperson\, or community leader\, this session will help you use LinkedIn with purpose—not guesswork. \nFree to all members and $10 for non-members. Includes breakfast.
URL:https://mtairychamber.com/event/professional-development-series-2/
LOCATION:Mt Airy Health & Wellness Pavilion\, 504 East Ridgeville Blvd\, Mt Airy\, MD\, 21771\, United States
CATEGORIES:Business Card Exchange
ATTACH;FMTTYPE=image/gif:https://mtairychamber.com/wp-content/uploads/2025/12/Linkedin.gif
END:VEVENT
END:VCALENDAR